BEGIN:VCALENDAR
VERSION:2.0
PRODID:-// - ECPv6.15.13.1//NONSGML v1.0//EN
CALSCALE:GREGORIAN
METHOD:PUBLISH
X-ORIGINAL-URL:https://www.crespo.be
X-WR-CALDESC:Évènements pour 
REFRESH-INTERVAL;VALUE=DURATION:PT1H
X-Robots-Tag:noindex
X-PUBLISHED-TTL:PT1H
BEGIN:VTIMEZONE
TZID:Europe/Brussels
BEGIN:DAYLIGHT
TZOFFSETFROM:+0100
TZOFFSETTO:+0200
TZNAME:CEST
DTSTART:20250330T010000
END:DAYLIGHT
BEGIN:STANDARD
TZOFFSETFROM:+0200
TZOFFSETTO:+0100
TZNAME:CET
DTSTART:20251026T010000
END:STANDARD
BEGIN:DAYLIGHT
TZOFFSETFROM:+0100
TZOFFSETTO:+0200
TZNAME:CEST
DTSTART:20260329T010000
END:DAYLIGHT
BEGIN:STANDARD
TZOFFSETFROM:+0200
TZOFFSETTO:+0100
TZNAME:CET
DTSTART:20261025T010000
END:STANDARD
BEGIN:DAYLIGHT
TZOFFSETFROM:+0100
TZOFFSETTO:+0200
TZNAME:CEST
DTSTART:20270328T010000
END:DAYLIGHT
BEGIN:STANDARD
TZOFFSETFROM:+0200
TZOFFSETTO:+0100
TZNAME:CET
DTSTART:20271031T010000
END:STANDARD
END:VTIMEZONE
BEGIN:VEVENT
DTSTART;TZID=Europe/Brussels:20260402T120000
DTEND;TZID=Europe/Brussels:20260402T140000
DTSTAMP:20260422T021328
CREATED:20260325T171951Z
LAST-MODIFIED:20260325T171951Z
UID:12840-1775131200-1775138400@www.crespo.be
SUMMARY:[Cycle Migration] Le travail migrant\, l'autre délocalisation
DESCRIPTION:Mini-cycle de séminaires « Migrations en débat : actualité des recherches critiques »\nChaque séance est consacrée à un livre\, discuté avec son ou ses auteur·es et un·e acteur·rice engagé·e du monde associatif\, militant\, juridique ou social\, pour croiser les savoirs et les expériences de chacun.e. Cette séance vous présente le livre de Daniel Veron (Université de Caen et membre du laboratoire Espaces et sociétés (ESO): Le travail migrant\, l’autre délocalisation \nInformations pratiques \n\nOÙ ? UCLouvain Saint-Louis – Bruxelles\nSalle du Conseil\, boulevard du Jardin botanique 43\, 4ème étage\nQUAND ? Jeudi 2 avril 2026 (12h – 14h)\nINSCRIPTION ? Cliquez sur le lien du formulaire\n\nIntervenant\nDaniel Veron — Maître de conférences en sociologie à l’université de Caen et membre du laboratoire Espaces et sociétés (ESO). Chercheur associé du Centre d’études de l’emploi et du travail (CEET) et à l’Institut Convergences Migrations (ICM). \nDiscutant\nPietro Tosi\, ancien coordinateur du groupe des travailleurs avec et sans-papiers de la CSC. Membre du centre national des employés (CNE). \nAlors que les lois anti-immigration s’empilent\, durcissant chaque fois un peu plus les conditions des travailleur·ses migrant·es\, la main-d’œuvre étrangère s’avère pourtant toujours aussi indispensable dans de nombreux secteurs (BTP\, restauration\, nettoyage\, travail à domicile\, etc.). Le recours à ce « travail migrant » se fait au travers d’une variété de statuts\, légaux ou non\, qui permettent la mise au travail des personnes migrantes dans des conditions moins favorables et plus intensives que celles qui ont cours sur le marché du travail français. Travailleurs et travailleuses « sans-papiers »\, « temporaires » ou « détaché·es » : le recours au travail migrant apparaît bien comme une modalité particulière de mise en œuvre d’une forme de « délocalisation »\, à ceci près qu’elle s’exerce « sur place ». Daniel Veron montre comment cette surexploitation des travailleur·ses migrant·es s’affirme comme l’un des outils cruciaux d’une dégradation générale des conditions de travail. Dès lors\, le seul horizon pour déjouer la pression à la baisse sur les salaires et les conditions de travail ne peut passer que par la lutte pour l’égalité des droits de toutes et tous. \nInfos : https://ladispute.fr/catalogue/le-travail-migrant-lautre-delocalisation/
URL:https://www.crespo.be/event/cycle-migration-le-travail-migrant-lautre-delocalisation/
LOCATION:Salle du Conseil\, Bvd du Jardin botanique 43\, Bruxelles
CATEGORIES:CReSPo Seminars,Events agenda,Latest News
END:VEVENT
END:VCALENDAR