BEGIN:VCALENDAR
VERSION:2.0
PRODID:-// - ECPv6.15.13.1//NONSGML v1.0//EN
CALSCALE:GREGORIAN
METHOD:PUBLISH
X-ORIGINAL-URL:https://www.crespo.be
X-WR-CALDESC:Évènements pour 
REFRESH-INTERVAL;VALUE=DURATION:PT1H
X-Robots-Tag:noindex
X-PUBLISHED-TTL:PT1H
BEGIN:VTIMEZONE
TZID:Europe/Brussels
BEGIN:DAYLIGHT
TZOFFSETFROM:+0100
TZOFFSETTO:+0200
TZNAME:CEST
DTSTART:20250330T010000
END:DAYLIGHT
BEGIN:STANDARD
TZOFFSETFROM:+0200
TZOFFSETTO:+0100
TZNAME:CET
DTSTART:20251026T010000
END:STANDARD
BEGIN:DAYLIGHT
TZOFFSETFROM:+0100
TZOFFSETTO:+0200
TZNAME:CEST
DTSTART:20260329T010000
END:DAYLIGHT
BEGIN:STANDARD
TZOFFSETFROM:+0200
TZOFFSETTO:+0100
TZNAME:CET
DTSTART:20261025T010000
END:STANDARD
BEGIN:DAYLIGHT
TZOFFSETFROM:+0100
TZOFFSETTO:+0200
TZNAME:CEST
DTSTART:20270328T010000
END:DAYLIGHT
BEGIN:STANDARD
TZOFFSETFROM:+0200
TZOFFSETTO:+0100
TZNAME:CET
DTSTART:20271031T010000
END:STANDARD
END:VTIMEZONE
BEGIN:VEVENT
DTSTART;TZID=Europe/Brussels:20260512T100000
DTEND;TZID=Europe/Brussels:20260512T123000
DTSTAMP:20260422T021338
CREATED:20260325T172831Z
LAST-MODIFIED:20260325T172831Z
UID:12845-1778580000-1778589000@www.crespo.be
SUMMARY:[Bataille des Vérités] L’effondrement du croire.
DESCRIPTION:[Bataille des Vérités] L’effondrement du croire. Penser les savoirs incertains à partir de trajectoires de préparation survivalistes en Europe francophone \nQu’est-ce que cela fait de croire que le monde tel que nous le connaissons est sur le point de s’effondrer ? Dans une perspective pragmatique\, cette enquête sur le survivalisme cherche à comprendre comment l’idée d’une rupture de la normalité en cours ou à venir met en mouvement\, ce qu’elle fait faire aux personnes qui sont saisies par la possibilité de l’effondrement. En s’appuyant sur des entretiens répétés et l’ethnographie d’espaces\, physiques et en ligne\, de rencontre et d’échanges\, les personnes qui se préparent apparaissent d’abord marquées par l’effondrement d’un croire. Cette présentation montre alors comment s’organise la défiance au sein de la nébuleuse survivaliste. L’effondrement de la croyance dans un avenir meilleur s’agence plus largement avec des processus de déprises vis-à-vis des formes d’organisation collective de la vie\, pointant notamment l’échec de l’État dans la prise en charge de cette protection. Si le survivalisme n’est pas un complotisme\, il contribue à l’érosion de la confiance vis-à-vis de savoirs dits-légitimes\, et se matérialise par des espaces contribuant à la circulation de savoirs incertains.\nAvec Nathan Gaborit\, Doctorant aspirant F.R.S.-FNRS au CESIR (UCLouvain Saint-Louis – Bruxelles) \nInfos & Inscriptions\n\nQuand ? Mardi 12 mai 2026\, 10h – 12h30\nOù ? Salle P02 (Rez-de-chaussée bâtiment Préfecture)\nUCLouvain Saint-Louis – Bruxelles\n119\, Rue du Marias (entrée parking)\n1000 – Bruxelles\nInscription : cliquez sur ce lien
URL:https://www.crespo.be/event/bataille-des-verites-leffondrement-du-croire/
LOCATION:Salle des examens\, 43 bvd du Jardin botanique\, Bruxelles\, Belgique
CATEGORIES:CReSPo Seminars,Events agenda,Latest News
END:VEVENT
END:VCALENDAR