BEGIN:VCALENDAR
VERSION:2.0
PRODID:-// - ECPv6.15.13.1//NONSGML v1.0//EN
CALSCALE:GREGORIAN
METHOD:PUBLISH
X-ORIGINAL-URL:https://www.crespo.be
X-WR-CALDESC:Évènements pour 
REFRESH-INTERVAL;VALUE=DURATION:PT1H
X-Robots-Tag:noindex
X-PUBLISHED-TTL:PT1H
BEGIN:VTIMEZONE
TZID:Europe/Brussels
BEGIN:DAYLIGHT
TZOFFSETFROM:+0100
TZOFFSETTO:+0200
TZNAME:CEST
DTSTART:20250330T010000
END:DAYLIGHT
BEGIN:STANDARD
TZOFFSETFROM:+0200
TZOFFSETTO:+0100
TZNAME:CET
DTSTART:20251026T010000
END:STANDARD
BEGIN:DAYLIGHT
TZOFFSETFROM:+0100
TZOFFSETTO:+0200
TZNAME:CEST
DTSTART:20260329T010000
END:DAYLIGHT
BEGIN:STANDARD
TZOFFSETFROM:+0200
TZOFFSETTO:+0100
TZNAME:CET
DTSTART:20261025T010000
END:STANDARD
BEGIN:DAYLIGHT
TZOFFSETFROM:+0100
TZOFFSETTO:+0200
TZNAME:CEST
DTSTART:20270328T010000
END:DAYLIGHT
BEGIN:STANDARD
TZOFFSETFROM:+0200
TZOFFSETTO:+0100
TZNAME:CET
DTSTART:20271031T010000
END:STANDARD
END:VTIMEZONE
BEGIN:VEVENT
DTSTART;TZID=Europe/Brussels:20260129T120000
DTEND;TZID=Europe/Brussels:20260528T140000
DTSTAMP:20260420T133351
CREATED:20260114T091931Z
LAST-MODIFIED:20260115T160534Z
UID:12453-1769688000-1779976800@www.crespo.be
SUMMARY:[Cycle] Migrations en Débat
DESCRIPTION:2026 : Mini-cycle de séminaires : « Migrations en débat : actualité des recherches critiques »\nJuliette Dupont (IEE-CReSPo — UCLouvain) & Youri Lou Vertongen (CESIR — UCLouvain) initient à l’UCLouvain Saint-Louis Bruxelles un cycle de séminaires consacré à la discussion d’ouvrages récemment publiés en sciences sociales autour des enjeux migratoires.\nCe cycle vise à mettre en lumière la richesse et la diversité des recherches contemporaines sur les migrations\, tout en offrant un espace de dialogue entre chercheur.ses\, auteur.es\, lecteurs et lectrices\, dans une perspective critique\, interdisciplinaire et collective. \nContexte\nÀ l’heure où les mobilités internationales sont à la fois intensifiées par les dynamiques économiques\, environnementales et politiques globales\, et simultanément entravées par des régimes de plus en plus restrictifs de contrôle des frontières\, les migrations constituent un terrain central d’observation des mutations du politique\, du social et du juridique. Les sciences sociales – sociologie\, anthropologie\, science politique\, histoire\, droit – n’ont cessé de renouveler leurs outils analytiques pour appréhender ces phénomènes complexes\, en tenant compte des dimensions structurelles aussi bien que des expériences subjectives des personnes migrantes. \nCe cycle se donne pour objectif de créer un espace pérenne d’échanges autour d’ouvrages récents – monographies\, livres collectifs\, essais – qui participent à une compréhension critique des migrations contemporaines. Qu’il s’agisse d’enquêtes sur les politiques migratoires (par exemple en matière de visas\, d’asile ou de regroupement familial)\, d’analyses des mobilisations collectives des personnes migrantes et sans-papiers\, d’études sur les trajectoires de travail migrant\, ou encore de recherches sur les formes d’accueil\, de tri et d’exclusion produites par les institutions\, les ouvrages présentés ont en commun d’interroger les mécanismes de hiérarchisation\, de racialisation et de gouvernementalité à l’œuvre dans les sociétés contemporaines. \nOrganiser un tel cycle permet\, d’une part\, de valoriser les productions scientifiques récentes qui engagent une lecture critique des migrations\, en dialoguant avec les terrains\, les mouvements sociaux et les contextes politiques. D’autre part\, cela participe à faire réseau entre chercheur.ses\, à stimuler la circulation des idées\, à favoriser les croisements entre disciplines\, et à soutenir la mise en débat des travaux par leurs lectorats académiques et militants. \nOrganisation des séances\nChaque séance sera consacrée à un ouvrage spécifique. Elle se déroulera selon un format simple et vivant : une présentation de l’ouvrage par son ou ses auteur·es pendant environ une heure\, suivie d’une discussion nourrie par les commentaires d’un·e acteur·rice engagé·e de la société civile — militant·e\, juriste\, travailleur·se social·e\, ou représentant·e associatif·ve — afin de croiser les regards académiques et pratiques. La séance se poursuivra par un échange ouvert avec le public. \nPublic\nCe cycle s’adresse à toutes celles et ceux qui travaillent ou s’intéressent aux migrations : chercheur·es confirmé·es ou en début de parcours\, étudiant·es\, membres d’associations\, journalistes\, ou simples curieux. Il s’inscrit dans la volonté de maintenir des espaces ouverts de discussion critique\, ancrés dans les enjeux sociaux et politiques du temps présent. \nProgramme\n\n\nMercredi 29 Janvier | 12h – 14h | Salle du Conseil\nAdministrer le regroupement familial. Construire l’indésirable\, justifier l’indésirabilité\nCarla Mascia\nUniversité libre de Bruxelles (ULB)\nÉditions de l’Université de Bruxelles\, 2022 \n\n\nMercredi 12 Février | 12h – 14h | Salle P61\nLa politique des visas. Filtrer les mobilités internationales en Chine et en Algérie\nJuliette Dupont\nUCLouvain Saint-Louis Bruxelles\nÉditions du Croquant\, 2025 \n\n\nMercredi 19 Mars | 12h – 14h | Salle P61\nExil & Politique. Résistances\, engagements et mobilisation en migration\nPauline Brücker (Université de Rouen) & Ophélie Mercier (UGent)\nOuvrage collectif\nÉditions Le Cavalier Bleu\, 2025 \n\n\nMercredi 02 Avril | 12h – 14h | Salle du Conseil\nLe travail migrant\, l’autre délocalisation\nDaniel Veron\nUniversité de Caen\nLa Dispute\, 2024 \n\n\nMercredi 07 Mai | 12h – 14h | Salle P61\nVSP\, l’odyssée des sans-papiers ? & Silenciées. L’enfermement des personnes sans-papiers en Belgique\nLa Voix des sans-papiers et le Bureau d’étude des sans-papiers / Getting The Voice Out\nCFS Asbl\, 2023 & Petites Singularités\, 2025 \n\nMercredi 28 Mai | 12h – 14h | Salle P61\nCitizen X: Becoming undocumented activists on both sides of the Atlantic\nThomas Swerts\nUniversité de Rotterdam\nOxford University Press\, à paraître 2026
URL:https://www.crespo.be/event/cycle-migrations-en-debat/
LOCATION:P61 et Salle du Conseil\, 119 Rue du Marais\, Bruxelles\, 1000\, Belgium
CATEGORIES:CReSPo Seminars,Events agenda
ATTACH;FMTTYPE=image/jpeg:https://www.crespo.be/wp-content/uploads/2026/01/Affiche-Cycle-Migration.jpeg
END:VEVENT
BEGIN:VEVENT
DTSTART;TZID=Europe/Brussels:20260210T100000
DTEND;TZID=Europe/Brussels:20260526T123000
DTSTAMP:20260420T133351
CREATED:20260114T093007Z
LAST-MODIFIED:20260114T093007Z
UID:12462-1770717600-1779798600@www.crespo.be
SUMMARY:[Cycle] La Bataille des Vérités
DESCRIPTION:2025 – 2026 — La bataille des vérités : entre science\, croyance et pouvoir social\nLe cycle de séminaires interdisciplinaires se poursuit ! Initialement lancé par le CESIR et le centre Engage\, notre centre s’associe pleinement à cette dynamique pour cette année académique. Dans la lignée de l’IRIS-L\, nous co-organisons ce cycle de réflexion consacré à la thématique : « La bataille des vérités : entre science\, croyance\, et pouvoir social ». \n\nNotre implication\nDans le cadre de cette collaboration étroite\, notre centre prend directement en charge l’organisation de deux séances clés du programme. Ces sessions sont placées sous la coordination scientifique d’Arnaud Gane\, qui assure le suivi de ces travaux et participe activement à l’animation des débats. \n\nMardi 03 Mars 2026: La Part Politique des Catégories Environnementales\nMardi 14 Avril 2026: Les complotistes et les frigos vides. Sociologie politique de l’engagement dans les mobilisations antipass parisiennes\n\nLa thématique\nDans un contexte où les savoirs circulent\, s’affrontent et se transforment\, ce cycle propose d’interroger ce qui façonne\, déstabilise et reconfigure les vérités dans l’espace public. Nous explorons un large éventail de phénomènes : \n\nThéories du complot et récits pseudo-scientifiques ;\nSavoirs minorisés et enjeux de reconnaissance ;\nConflits de légitimité entre acteurs scientifiques\, politiques et médiatiques.\n\nChaque séance accueille des chercheur·es invité·es pour nourrir une réflexion collective\, ouverte et critique. L’ambition est de faire dialoguer la sociologie et les sciences de la communication pour penser ensemble le « faire vérité »\, les logiques de « post-vérité » et les rapports de pouvoir qui les traversent. \n\nInformations & Responsabilités\nCoordination pour notre centre :\nArnaud Gane : arnaud.gane@uclouvain.be \nCo-responsables académiques (CESIR & Engage) :\nLydie Denis (Engage) : lydie.denis@uclouvain.be\nYouri Lou Vertongen (CESIR) : youri.vertongen@uclouvain.be \nContact administratif :\nLoredana Guerriero : loredana.guerriero@uclouvain.be \nConsultez le programme complet ci-dessous pour découvrir l’ensemble des séances de la saison.
URL:https://www.crespo.be/event/cycle-la-bataille-des-verites/
LOCATION:Préfecture – P61\, Rue du Marais 119\, Bruxelles\, 1000\, Belgique
CATEGORIES:CReSPo Seminars,Events agenda
END:VEVENT
BEGIN:VEVENT
DTSTART;TZID=Europe/Brussels:20260507T120000
DTEND;TZID=Europe/Brussels:20260507T140000
DTSTAMP:20260420T133351
CREATED:20260325T172414Z
LAST-MODIFIED:20260416T114109Z
UID:12843-1778155200-1778162400@www.crespo.be
SUMMARY:[Cycle Migration] Présentation des ouvrages "Silenciées" & "VSP\, l’odyssée des sans-papiers ?"
DESCRIPTION:Mini-cycle de séminaires « Migrations en débat : actualité des recherches critiques »\nChaque séance est consacrée à un livre\, discuté avec son ou ses auteur·es et un·e acteur·rice engagé·e du monde associatif\, militant\, juridique ou social\, pour croiser les savoirs et les expériences de chacun.e. \nIntervenant·e·s \n\nLes collectifs La Voix des sans-papiers\nle Bureau d’étude des sans-papiers\nle collectif Getting The Voice Out\n\nDiscutant \n\nAndrew Cosby (BIRMM\, VUB)\n\nThèmes des ouvrages\n\nAbstract (1) : Le Bureau d’Étude des Sans-Papiers (BESP) vient de sortir sa dixième publication : « VSP\, l’Odyssée des sans-papiers ». Cette recherche participative examine ce que les membres et militants du collectif La Voix des Sans-Papiers de Bruxelles (VSP) ont subi mais aussi appris de leur expérience de 25 occupations/expulsions/déménagements. Un document réalisé dans le cadre d’une démarche d’écriture avec\, pour\, et PAR les premier·ère·s concerné·e·s\, dans une perspective d’appropriation collective de leur propre histoire.\nAbstract (2) : Silenciées est un recueil de témoignages de personnes qui sont ou qui on été détenues dans les centres fermés en Belgique. Ces prisons qui ne disent pas leur nom\, à l’intérieur desquelles l’État belge enferme et détient celles et ceux qui n’ont\, à ses yeux\, pas les “bons papiers”. L’État les emprisonne\, en vue de les expulser loin du territoire. Notre livre contient également des éléments de contextes\, des textes militants\, des entretiens avec d’autres collectifs et des illustrations. Au fil des jours\, des semaines\, des mois de détention\, les personnes détenues racontent : la violence de l’enfermement\, le racisme du personnel et des institutions\, l’absence totale d’accès aux droits les plus fondamentaux\, les expulsions\, la solidarité qui s’organise\, les résistances\, …\n\nInformations pratiques \n\nJeudi 07/05 – De 12h00 à 14h00\nSalle P61 – UCLouvain Saint Louis Bruxelles\, entrée via la Rue Du Marais 119\, bâtiment Préfecture\nInscriptions via ce formulaire\nNous commandons des sandwichs pour les participants sur place\, merci de nous prévenir si vous ne pouvez pas venir afin d’éviter tout gaspillage alimentaire. 
URL:https://www.crespo.be/event/cycle-migration-vsp-lodyssee-des-sans-papiers/
LOCATION:Préfecture – P61\, Rue du Marais 119\, Bruxelles\, 1000\, Belgique
CATEGORIES:CReSPo Seminars,Events agenda
ATTACH;FMTTYPE=image/jpeg:https://www.crespo.be/wp-content/uploads/2026/03/Vignette-VSP-crespo.jpg
END:VEVENT
BEGIN:VEVENT
DTSTART;TZID=Europe/Brussels:20260512T100000
DTEND;TZID=Europe/Brussels:20260512T123000
DTSTAMP:20260420T133351
CREATED:20260325T172831Z
LAST-MODIFIED:20260325T172831Z
UID:12845-1778580000-1778589000@www.crespo.be
SUMMARY:[Bataille des Vérités] L’effondrement du croire.
DESCRIPTION:[Bataille des Vérités] L’effondrement du croire. Penser les savoirs incertains à partir de trajectoires de préparation survivalistes en Europe francophone \nQu’est-ce que cela fait de croire que le monde tel que nous le connaissons est sur le point de s’effondrer ? Dans une perspective pragmatique\, cette enquête sur le survivalisme cherche à comprendre comment l’idée d’une rupture de la normalité en cours ou à venir met en mouvement\, ce qu’elle fait faire aux personnes qui sont saisies par la possibilité de l’effondrement. En s’appuyant sur des entretiens répétés et l’ethnographie d’espaces\, physiques et en ligne\, de rencontre et d’échanges\, les personnes qui se préparent apparaissent d’abord marquées par l’effondrement d’un croire. Cette présentation montre alors comment s’organise la défiance au sein de la nébuleuse survivaliste. L’effondrement de la croyance dans un avenir meilleur s’agence plus largement avec des processus de déprises vis-à-vis des formes d’organisation collective de la vie\, pointant notamment l’échec de l’État dans la prise en charge de cette protection. Si le survivalisme n’est pas un complotisme\, il contribue à l’érosion de la confiance vis-à-vis de savoirs dits-légitimes\, et se matérialise par des espaces contribuant à la circulation de savoirs incertains.\nAvec Nathan Gaborit\, Doctorant aspirant F.R.S.-FNRS au CESIR (UCLouvain Saint-Louis – Bruxelles) \nInfos & Inscriptions\n\nQuand ? Mardi 12 mai 2026\, 10h – 12h30\nOù ? Salle P02 (Rez-de-chaussée bâtiment Préfecture)\nUCLouvain Saint-Louis – Bruxelles\n119\, Rue du Marias (entrée parking)\n1000 – Bruxelles\nInscription : cliquez sur ce lien
URL:https://www.crespo.be/event/bataille-des-verites-leffondrement-du-croire/
LOCATION:Salle des examens\, 43 bvd du Jardin botanique\, Bruxelles\, Belgique
CATEGORIES:CReSPo Seminars,Events agenda,Latest News
END:VEVENT
BEGIN:VEVENT
DTSTART;TZID=Europe/Brussels:20260528T120000
DTEND;TZID=Europe/Brussels:20260528T140000
DTSTAMP:20260420T133351
CREATED:20260115T160338Z
LAST-MODIFIED:20260126T131151Z
UID:12478-1779969600-1779976800@www.crespo.be
SUMMARY:[Séminaire] Citizen X: Becoming undocumented activists on both sides of the Atlantic
DESCRIPTION:L’événement se déroulera en anglais bien que vous trouverez ci-dessous une explication en français également. \nComment devient-on activiste lorsque l’on n’a pas de statut légal ? Dans cet événement dédié à la recherche transatlantique\, Thomas Swerts (Université de Rotterdam) présente ses travaux à paraître aux prestigieuses éditions Oxford University Press (2026). \nL’étude explore le passage de l’invisibilité à l’action publique pour les migrants sans-papiers. À travers une enquête menée « des deux côtés de l’Atlantique »\, Thomas Swerts analyse comment ces « citoyens X » réclament leur place dans l’espace politique\, transforment leur condition de vulnérabilité en force collective et redéfinissent les contours de la citoyenneté moderne. \nThématiques abordées : \n\nSociologie de l’engagement des personnes précarisées.\nComparaison des mouvements de sans-papiers (Europe vs États-Unis).\nLa figure de l’activiste « undocumented » comme nouveau sujet politique.\n\nInfos pratiques : \n\nDate : Mercredi 28 mai\nHeure : 12h – 14h\nLieu : Salle P61\nInscription via formulaire\n\nCe cycle bénéficie du soutien financier de l’Association belge de science politique. \n\nEnglish version \nHow does one become an activist without legal status? In this seminar dedicated to transatlantic research\, Thomas Swerts (Erasmus University Rotterdam) will present findings from his highly anticipated book\, forthcoming with Oxford University Press (2026). \nThe study explores the transition from invisibility to public action for undocumented migrants. By investigating movements « on both sides of the Atlantic\, » Thomas Swerts analyzes how these « Citizens X » claim their place in the political sphere\, turning their vulnerability into collective power and redefining the boundaries of modern citizenship. \nKey Themes: \n\nThe sociology of engagement among marginalized populations.\nComparative study of undocumented movements (Europe vs. United States).\nThe « undocumented activist » as a new political subject.\n\nEvent Details: \n\nDate: Wednesday\, May 28\nTime: 12:00 PM – 2:00 PM\nLocation: Room P61\nLanguage: English\nSubsription via forms
URL:https://www.crespo.be/event/seminaire-citizen-x-becoming-undocumented-activists-on-both-sides-of-the-atlantic/
LOCATION:Préfecture – P61\, Rue du Marais 119\, Bruxelles\, 1000\, Belgique
CATEGORIES:CReSPo Seminars,Events agenda
END:VEVENT
END:VCALENDAR